Package: CNVrd2
Version: 1.43.0
Command: C:\Users\biocbuild\bbs-3.20-bioc\R\bin\R.exe CMD check --no-multiarch --install=check:CNVrd2.install-out.txt --library=C:\Users\biocbuild\bbs-3.20-bioc\R\library --no-vignettes --timings CNVrd2_1.43.0.tar.gz
StartedAt: 2024-07-15 22:50:30 -0400 (Mon, 15 Jul 2024)
EndedAt: 2024-07-15 22:53:25 -0400 (Mon, 15 Jul 2024)
EllapsedTime: 175.6 seconds
RetCode: 0
Status: OK
CheckDir: CNVrd2.Rcheck
Warnings: 0