############################################################################## ############################################################################## ### ### Running command: ### ### /home/biocbuild/R/R/bin/R CMD build --keep-empty-dirs --no-resave-data CNVrd2 ### ############################################################################## ############################################################################## * checking for file ‘CNVrd2/DESCRIPTION’ ... OK * preparing ‘CNVrd2’: * checking DESCRIPTION meta-information ... OK * installing the package to build vignettes ----------------------------------- ERROR: dependency ‘rjags’ is not available for package ‘CNVrd2’ * removing ‘/home/biocbuild/tmp/RtmpqLtJWx/Rinst2ccac1bed4228/CNVrd2’ ----------------------------------- ERROR: package installation failed