Package: CNVrd2 Version: 1.44.0 Command: /home/biocbuild/R/R/bin/R CMD build --keep-empty-dirs --no-resave-data CNVrd2 StartedAt: 2025-02-03 22:43:23 -0000 (Mon, 03 Feb 2025) EndedAt: 2025-02-03 22:43:24 -0000 (Mon, 03 Feb 2025) EllapsedTime: 1.0 seconds RetCode: 1 Status: ERROR PackageFile: None PackageFileSize: NA