Package: CODEX Version: 1.38.0 Command: rm -rf CODEX.buildbin-libdir && mkdir CODEX.buildbin-libdir && /Users/biocbuild/BBS/utils/build-universal.sh CODEX_1.38.0.tar.gz /Library/Frameworks/R.framework/Resources/bin/R CODEX.buildbin-libdir StartedAt: 2025-02-01 14:24:01 -0500 (Sat, 01 Feb 2025) EndedAt: 2025-02-01 14:24:42 -0500 (Sat, 01 Feb 2025) EllapsedTime: 41.1 seconds RetCode: 0 Status: OK PackageFile: CODEX_1.38.0.tgz PackageFileSize: 1.381 MiB