Package: CODEX Version: 1.38.0 Command: /Library/Frameworks/R.framework/Resources/bin/R CMD INSTALL CODEX StartedAt: 2025-01-30 16:04:55 -0500 (Thu, 30 Jan 2025) EndedAt: 2025-01-30 16:05:32 -0500 (Thu, 30 Jan 2025) EllapsedTime: 37.4 seconds RetCode: 0 Status: OK