Package: CODEX Version: 1.38.0 Command: /Library/Frameworks/R.framework/Resources/bin/R CMD build --keep-empty-dirs --no-resave-data CODEX StartedAt: 2025-01-30 18:05:12 -0500 (Thu, 30 Jan 2025) EndedAt: 2025-01-30 18:09:46 -0500 (Thu, 30 Jan 2025) EllapsedTime: 274.1 seconds RetCode: 0 Status: OK PackageFile: CODEX_1.38.0.tar.gz PackageFileSize: 913.5 KiB