Package: CODEX Version: 1.38.0 Command: /home/biocbuild/bbs-3.20-bioc/R/bin/R CMD build --keep-empty-dirs --no-resave-data --md5 CODEX StartedAt: 2025-01-30 16:45:39 -0500 (Thu, 30 Jan 2025) EndedAt: 2025-01-30 16:47:19 -0500 (Thu, 30 Jan 2025) EllapsedTime: 100.1 seconds RetCode: 0 Status: OK PackageFile: CODEX_1.38.0.tar.gz PackageFileSize: 916.5 KiB