Package: CODEX Version: 1.38.0 Command: /home/biocbuild/bbs-3.20-bioc/R/bin/R CMD INSTALL CODEX StartedAt: 2025-01-30 15:22:21 -0500 (Thu, 30 Jan 2025) EndedAt: 2025-01-30 15:22:53 -0500 (Thu, 30 Jan 2025) EllapsedTime: 32.4 seconds RetCode: 0 Status: OK