Package: CODEX Version: 1.38.0 Command: rm -rf CODEX.buildbin-libdir && mkdir CODEX.buildbin-libdir && F:\biocbuild\bbs-3.20-bioc\R\bin\R.exe CMD INSTALL --build --library=CODEX.buildbin-libdir CODEX_1.38.0.tar.gz StartedAt: 2025-02-04 08:14:50 -0500 (Tue, 04 Feb 2025) EndedAt: 2025-02-04 08:15:27 -0500 (Tue, 04 Feb 2025) EllapsedTime: 37.3 seconds RetCode: 0 Status: OK PackageFile: CODEX_1.38.0.zip PackageFileSize: 1.239 MiB