Package: CODEX Version: 1.38.0 Command: /home/biocbuild/R/R/bin/R CMD build --keep-empty-dirs --no-resave-data CODEX StartedAt: 2025-02-03 22:43:53 -0000 (Mon, 03 Feb 2025) EndedAt: 2025-02-03 22:46:09 -0000 (Mon, 03 Feb 2025) EllapsedTime: 136.0 seconds RetCode: 0 Status: OK PackageFile: CODEX_1.38.0.tar.gz PackageFileSize: 909.3 KiB