Package: CODEX Version: 1.38.0 Command: /home/biocbuild/R/R/bin/R CMD INSTALL CODEX StartedAt: 2025-02-03 20:41:45 -0000 (Mon, 03 Feb 2025) EndedAt: 2025-02-03 20:42:23 -0000 (Mon, 03 Feb 2025) EllapsedTime: 38.2 seconds RetCode: 0 Status: OK