Package: COMPASS
Version: 1.44.0
Command: rm -rf COMPASS.buildbin-libdir && mkdir COMPASS.buildbin-libdir && /Users/biocbuild/BBS/utils/build-universal.sh COMPASS_1.44.0.tar.gz /Library/Frameworks/R.framework/Resources/bin/R COMPASS.buildbin-libdir
StartedAt: 2024-11-09 16:43:25 -0500 (Sat, 09 Nov 2024)
EndedAt: 2024-11-09 16:43:32 -0500 (Sat, 09 Nov 2024)
EllapsedTime: 7.1 seconds
RetCode: 0
Status: OK
PackageFile: COMPASS_1.44.0.tgz
PackageFileSize: 1.42 <A href="http://en.wikipedia.org/wiki/MiB" target="_blank">MiB</A>