Package: COMPASS Version: 1.44.0 Command: /home/biocbuild/R/R/bin/R CMD INSTALL COMPASS StartedAt: 2025-01-27 21:37:17 -0000 (Mon, 27 Jan 2025) EndedAt: 2025-01-27 21:38:26 -0000 (Mon, 27 Jan 2025) EllapsedTime: 69.8 seconds RetCode: 0 Status: OK