Package: COMPASS
Version: 1.44.0
Command: /home/biocbuild/bbs-3.20-bioc/R/bin/R CMD build --keep-empty-dirs --no-resave-data COMPASS
StartedAt: 2024-11-19 18:14:25 -0500 (Tue, 19 Nov 2024)
EndedAt: 2024-11-19 18:18:19 -0500 (Tue, 19 Nov 2024)
EllapsedTime: 234.0 seconds
RetCode: 0
Status: OK
PackageFile: COMPASS_1.44.0.tar.gz
PackageFileSize: 1.26 <A href="http://en.wikipedia.org/wiki/MiB" target="_blank">MiB</A>