Package: CONFESS
Version: 1.34.0
Command: rm -rf CONFESS.buildbin-libdir && mkdir CONFESS.buildbin-libdir && /Users/biocbuild/BBS/utils/build-universal.sh CONFESS_1.34.0.tar.gz /Library/Frameworks/R.framework/Resources/bin/R CONFESS.buildbin-libdir
StartedAt: 2024-11-20 04:20:45 -0500 (Wed, 20 Nov 2024)
EndedAt: 2024-11-20 04:22:33 -0500 (Wed, 20 Nov 2024)
EllapsedTime: 107.8 seconds
RetCode: 0
Status: OK
PackageFile: CONFESS_1.34.0.tgz
PackageFileSize: 3.122 <A href="http://en.wikipedia.org/wiki/MiB" target="_blank">MiB</A>