Package: CONFESS Version: 1.34.0 Command: /home/biocbuild/bbs-3.20-bioc/R/bin/R CMD check --install=check:CONFESS.install-out.txt --library=/home/biocbuild/bbs-3.20-bioc/R/site-library --timings CONFESS_1.34.0.tar.gz StartedAt: 2025-02-03 21:15:18 -0500 (Mon, 03 Feb 2025) EndedAt: 2025-02-03 21:24:10 -0500 (Mon, 03 Feb 2025) EllapsedTime: 531.5 seconds RetCode: 0 Status: WARNINGS CheckDir: CONFESS.Rcheck Warnings: 1