Package: CONFESS Version: 1.34.0 Command: /home/biocbuild/bbs-3.20-bioc/R/bin/R CMD INSTALL CONFESS StartedAt: 2025-02-17 15:48:27 -0500 (Mon, 17 Feb 2025) EndedAt: 2025-02-17 15:49:18 -0500 (Mon, 17 Feb 2025) EllapsedTime: 50.9 seconds RetCode: 0 Status: OK