Package: CONFESS Version: 1.34.0 Command: /home/biocbuild/R/R/bin/R CMD build --keep-empty-dirs --no-resave-data CONFESS StartedAt: 2025-02-03 22:47:47 -0000 (Mon, 03 Feb 2025) EndedAt: 2025-02-03 22:47:48 -0000 (Mon, 03 Feb 2025) EllapsedTime: 1.0 seconds RetCode: 1 Status: ERROR PackageFile: None PackageFileSize: NA