Package: CONSTANd Version: 1.14.0 Command: rm -rf CONSTANd.buildbin-libdir && mkdir CONSTANd.buildbin-libdir && /Users/biocbuild/BBS/utils/build-universal.sh CONSTANd_1.14.0.tar.gz /Library/Frameworks/R.framework/Resources/bin/R CONSTANd.buildbin-libdir StartedAt: 2025-02-05 15:22:06 -0500 (Wed, 05 Feb 2025) EndedAt: 2025-02-05 15:22:09 -0500 (Wed, 05 Feb 2025) EllapsedTime: 3.4 seconds RetCode: 0 Status: OK PackageFile: CONSTANd_1.14.0.tgz PackageFileSize: 1.553 MiB