Package: CONSTANd Version: 1.14.0 Command: chmod a+r CONSTANd -R && F:\biocbuild\bbs-3.20-bioc\R\bin\R.exe CMD build --keep-empty-dirs --no-resave-data CONSTANd StartedAt: 2025-02-03 18:20:59 -0500 (Mon, 03 Feb 2025) EndedAt: 2025-02-03 18:21:20 -0500 (Mon, 03 Feb 2025) EllapsedTime: 21.0 seconds RetCode: 0 Status: OK PackageFile: CONSTANd_1.14.0.tar.gz PackageFileSize: 1.669 MiB