Package: CRISPRseek Version: 1.46.0 Command: /Library/Frameworks/R.framework/Resources/bin/R CMD build --keep-empty-dirs --no-resave-data CRISPRseek StartedAt: 2025-02-10 18:05:50 -0500 (Mon, 10 Feb 2025) EndedAt: 2025-02-10 18:11:32 -0500 (Mon, 10 Feb 2025) EllapsedTime: 342.1 seconds RetCode: 0 Status: OK PackageFile: CRISPRseek_1.46.0.tar.gz PackageFileSize: 10.74 MiB