Package: CRISPRseek Version: 1.46.0 Command: /Library/Frameworks/R.framework/Resources/bin/R CMD check --install=check:CRISPRseek.install-out.txt --library=/Library/Frameworks/R.framework/Resources/library --no-vignettes --timings CRISPRseek_1.46.0.tar.gz StartedAt: 2025-02-04 01:55:28 -0500 (Tue, 04 Feb 2025) EndedAt: 2025-02-04 02:35:28 -0500 (Tue, 04 Feb 2025) EllapsedTime: 2400.7 seconds RetCode: None Status: TIMEOUT CheckDir: CRISPRseek.Rcheck Warnings: NA