Package: CRISPRseek Version: 1.46.0 Command: /home/biocbuild/bbs-3.20-bioc/R/bin/R CMD build --keep-empty-dirs --no-resave-data --md5 CRISPRseek StartedAt: 2025-02-10 16:53:59 -0500 (Mon, 10 Feb 2025) EndedAt: 2025-02-10 16:56:44 -0500 (Mon, 10 Feb 2025) EllapsedTime: 165.2 seconds RetCode: 0 Status: OK PackageFile: CRISPRseek_1.46.0.tar.gz PackageFileSize: 10.74 MiB