Package: CRISPRseek Version: 1.46.0 Command: /home/biocbuild/bbs-3.20-bioc/R/bin/R CMD INSTALL CRISPRseek StartedAt: 2025-02-03 15:32:48 -0500 (Mon, 03 Feb 2025) EndedAt: 2025-02-03 15:33:28 -0500 (Mon, 03 Feb 2025) EllapsedTime: 39.6 seconds RetCode: 0 Status: OK