Package: CRISPRseek Version: 1.46.0 Command: chmod a+r CRISPRseek -R && F:\biocbuild\bbs-3.20-bioc\R\bin\R.exe CMD build --keep-empty-dirs --no-resave-data CRISPRseek StartedAt: 2025-02-03 18:24:43 -0500 (Mon, 03 Feb 2025) EndedAt: 2025-02-03 18:29:28 -0500 (Mon, 03 Feb 2025) EllapsedTime: 285.2 seconds RetCode: 0 Status: OK PackageFile: CRISPRseek_1.46.0.tar.gz PackageFileSize: 10.74 MiB