Package: CRISPRseek Version: 1.46.0 Command: F:\biocbuild\bbs-3.20-bioc\R\bin\R.exe CMD INSTALL CRISPRseek StartedAt: 2025-02-10 16:12:44 -0500 (Mon, 10 Feb 2025) EndedAt: 2025-02-10 16:14:18 -0500 (Mon, 10 Feb 2025) EllapsedTime: 93.6 seconds RetCode: 0 Status: OK