Package: CRISPRseek Version: 1.46.0 Command: /home/biocbuild/R/R/bin/R CMD check --install=check:CRISPRseek.install-out.txt --library=/home/biocbuild/R/R/site-library --no-vignettes --timings CRISPRseek_1.46.0.tar.gz StartedAt: 2025-02-04 06:00:55 -0000 (Tue, 04 Feb 2025) EndedAt: 2025-02-04 06:33:08 -0000 (Tue, 04 Feb 2025) EllapsedTime: 1932.9 seconds RetCode: 0 Status: OK CheckDir: CRISPRseek.Rcheck Warnings: 0