Package: CRImage Version: 1.54.0 Command: /Library/Frameworks/R.framework/Resources/bin/R CMD check --install=check:CRImage.install-out.txt --library=/Library/Frameworks/R.framework/Resources/library --no-vignettes --timings CRImage_1.54.0.tar.gz StartedAt: 2025-02-04 16:13:33 -0500 (Tue, 04 Feb 2025) EndedAt: 2025-02-04 16:15:07 -0500 (Tue, 04 Feb 2025) EllapsedTime: 94.4 seconds RetCode: 0 Status: OK CheckDir: CRImage.Rcheck Warnings: 0