Package: CRImage Version: 1.54.0 Command: /home/biocbuild/R/R/bin/R CMD check --install=check:CRImage.install-out.txt --library=/home/biocbuild/R/R/site-library --no-vignettes --timings CRImage_1.54.0.tar.gz StartedAt: 2024-11-20 06:39:27 -0000 (Wed, 20 Nov 2024) EndedAt: 2024-11-20 06:41:14 -0000 (Wed, 20 Nov 2024) EllapsedTime: 107.2 seconds RetCode: 0 Status: OK CheckDir: CRImage.Rcheck Warnings: 0