Package: CRImage Version: 1.54.0 Command: rm -rf CRImage.buildbin-libdir && mkdir CRImage.buildbin-libdir && /Users/biocbuild/BBS/utils/build-universal.sh CRImage_1.54.0.tar.gz /Library/Frameworks/R.framework/Resources/bin/R CRImage.buildbin-libdir StartedAt: 2025-02-04 12:44:08 -0500 (Tue, 04 Feb 2025) EndedAt: 2025-02-04 12:44:37 -0500 (Tue, 04 Feb 2025) EllapsedTime: 28.6 seconds RetCode: 0 Status: OK PackageFile: CRImage_1.54.0.tgz PackageFileSize: 6.549 MiB