Package: CRImage Version: 1.54.0 Command: /home/biocbuild/R/R/bin/R CMD build --keep-empty-dirs --no-resave-data CRImage StartedAt: 2025-02-03 22:52:55 -0000 (Mon, 03 Feb 2025) EndedAt: 2025-02-03 22:53:21 -0000 (Mon, 03 Feb 2025) EllapsedTime: 26.0 seconds RetCode: 0 Status: OK PackageFile: CRImage_1.54.0.tar.gz PackageFileSize: 7.644 MiB