Package: CRImage Version: 1.54.0 Command: /home/biocbuild/R/R/bin/R CMD check --install=check:CRImage.install-out.txt --library=/home/biocbuild/R/R/site-library --no-vignettes --timings CRImage_1.54.0.tar.gz StartedAt: 2025-02-04 05:59:24 -0000 (Tue, 04 Feb 2025) EndedAt: 2025-02-04 06:01:00 -0000 (Tue, 04 Feb 2025) EllapsedTime: 95.1 seconds RetCode: 0 Status: OK CheckDir: CRImage.Rcheck Warnings: 0