Package: CRImage Version: 1.54.0 Command: /home/biocbuild/R/R/bin/R CMD INSTALL CRImage StartedAt: 2025-02-03 21:09:48 -0000 (Mon, 03 Feb 2025) EndedAt: 2025-02-03 21:10:02 -0000 (Mon, 03 Feb 2025) EllapsedTime: 13.9 seconds RetCode: 0 Status: OK