Package: CSAR Version: 1.58.0 Command: /Library/Frameworks/R.framework/Resources/bin/R CMD check --install=check:CSAR.install-out.txt --library=/Library/Frameworks/R.framework/Resources/library --no-vignettes --timings CSAR_1.58.0.tar.gz StartedAt: 2025-02-04 16:36:50 -0500 (Tue, 04 Feb 2025) EndedAt: 2025-02-04 16:39:33 -0500 (Tue, 04 Feb 2025) EllapsedTime: 163.1 seconds RetCode: 0 Status: OK CheckDir: CSAR.Rcheck Warnings: 0