Package: CSAR Version: 1.58.0 Command: rm -rf CSAR.buildbin-libdir && mkdir CSAR.buildbin-libdir && /Users/biocbuild/BBS/utils/build-universal.sh CSAR_1.58.0.tar.gz /Library/Frameworks/R.framework/Resources/bin/R CSAR.buildbin-libdir StartedAt: 2024-11-09 16:44:29 -0500 (Sat, 09 Nov 2024) EndedAt: 2024-11-09 16:44:34 -0500 (Sat, 09 Nov 2024) EllapsedTime: 5.1 seconds RetCode: 0 Status: OK PackageFile: CSAR_1.58.0.tgz PackageFileSize: 304.1 KiB