Package: CSAR Version: 1.58.0 Command: rm -rf CSAR.buildbin-libdir && mkdir CSAR.buildbin-libdir && /Users/biocbuild/BBS/utils/build-universal.sh CSAR_1.58.0.tar.gz /Library/Frameworks/R.framework/Resources/bin/R CSAR.buildbin-libdir StartedAt: 2025-02-04 12:45:02 -0500 (Tue, 04 Feb 2025) EndedAt: 2025-02-04 12:45:27 -0500 (Tue, 04 Feb 2025) EllapsedTime: 25.0 seconds RetCode: 0 Status: OK PackageFile: CSAR_1.58.0.tgz PackageFileSize: 302.9 KiB