Package: CSAR Version: 1.58.0 Command: /Library/Frameworks/R.framework/Resources/bin/R CMD check --install=check:CSAR.install-out.txt --library=/Library/Frameworks/R.framework/Resources/library --no-vignettes --timings CSAR_1.58.0.tar.gz StartedAt: 2025-02-04 01:58:51 -0500 (Tue, 04 Feb 2025) EndedAt: 2025-02-04 02:03:23 -0500 (Tue, 04 Feb 2025) EllapsedTime: 271.5 seconds RetCode: 0 Status: OK CheckDir: CSAR.Rcheck Warnings: 0