Package: CSAR Version: 1.58.0 Command: /home/biocbuild/bbs-3.20-bioc/R/bin/R CMD build --keep-empty-dirs --no-resave-data --md5 CSAR StartedAt: 2025-02-03 17:01:29 -0500 (Mon, 03 Feb 2025) EndedAt: 2025-02-03 17:01:56 -0500 (Mon, 03 Feb 2025) EllapsedTime: 27.0 seconds RetCode: 0 Status: OK PackageFile: CSAR_1.58.0.tar.gz PackageFileSize: 235.3 KiB