Package: CSAR Version: 1.58.0 Command: chmod a+r CSAR -R && F:\biocbuild\bbs-3.20-bioc\R\bin\R.exe CMD build --keep-empty-dirs --no-resave-data CSAR StartedAt: 2025-02-03 18:25:32 -0500 (Mon, 03 Feb 2025) EndedAt: 2025-02-03 18:26:16 -0500 (Mon, 03 Feb 2025) EllapsedTime: 44.2 seconds RetCode: 0 Status: OK PackageFile: CSAR_1.58.0.tar.gz PackageFileSize: 112.3 KiB