Package: CSSQ Version: 1.18.0 Command: rm -rf CSSQ.buildbin-libdir && mkdir CSSQ.buildbin-libdir && /Users/biocbuild/BBS/utils/build-universal.sh CSSQ_1.18.0.tar.gz /Library/Frameworks/R.framework/Resources/bin/R CSSQ.buildbin-libdir StartedAt: 2025-02-04 12:45:07 -0500 (Tue, 04 Feb 2025) EndedAt: 2025-02-04 12:46:24 -0500 (Tue, 04 Feb 2025) EllapsedTime: 77.0 seconds RetCode: 0 Status: OK PackageFile: CSSQ_1.18.0.tgz PackageFileSize: 925 KiB