Package: CSSQ Version: 1.18.0 Command: /Library/Frameworks/R.framework/Resources/bin/R CMD build --keep-empty-dirs --no-resave-data CSSQ StartedAt: 2025-02-03 18:12:09 -0500 (Mon, 03 Feb 2025) EndedAt: 2025-02-03 18:14:15 -0500 (Mon, 03 Feb 2025) EllapsedTime: 126.0 seconds RetCode: 0 Status: OK PackageFile: CSSQ_1.18.0.tar.gz PackageFileSize: 865.9 KiB