Package: CSSQ Version: 1.18.0 Command: /Library/Frameworks/R.framework/Resources/bin/R CMD INSTALL CSSQ StartedAt: 2025-02-03 15:41:33 -0500 (Mon, 03 Feb 2025) EndedAt: 2025-02-03 15:42:46 -0500 (Mon, 03 Feb 2025) EllapsedTime: 73.2 seconds RetCode: 0 Status: OK