Package: CSSQ Version: 1.18.0 Command: rm -rf CSSQ.buildbin-libdir && mkdir CSSQ.buildbin-libdir && F:\biocbuild\bbs-3.20-bioc\R\bin\R.exe CMD INSTALL --build --library=CSSQ.buildbin-libdir CSSQ_1.18.0.tar.gz StartedAt: 2025-02-04 08:17:56 -0500 (Tue, 04 Feb 2025) EndedAt: 2025-02-04 08:18:34 -0500 (Tue, 04 Feb 2025) EllapsedTime: 37.6 seconds RetCode: 0 Status: OK PackageFile: CSSQ_1.18.0.zip PackageFileSize: 930.6 KiB