Package: CSSQ Version: 1.18.0 Command: chmod a+r CSSQ -R && F:\biocbuild\bbs-3.20-bioc\R\bin\R.exe CMD build --keep-empty-dirs --no-resave-data CSSQ StartedAt: 2025-02-03 18:25:40 -0500 (Mon, 03 Feb 2025) EndedAt: 2025-02-03 18:29:45 -0500 (Mon, 03 Feb 2025) EllapsedTime: 244.9 seconds RetCode: 0 Status: OK PackageFile: CSSQ_1.18.0.tar.gz PackageFileSize: 865.7 KiB