Package: CSSQ Version: 1.18.0 Command: F:\biocbuild\bbs-3.20-bioc\R\bin\R.exe CMD INSTALL CSSQ StartedAt: 2025-02-03 16:38:31 -0500 (Mon, 03 Feb 2025) EndedAt: 2025-02-03 16:39:14 -0500 (Mon, 03 Feb 2025) EllapsedTime: 43.3 seconds RetCode: 0 Status: OK