Package: CTDquerier Version: 2.14.0 Command: /Library/Frameworks/R.framework/Resources/bin/R CMD INSTALL CTDquerier StartedAt: 2025-02-03 15:39:25 -0500 (Mon, 03 Feb 2025) EndedAt: 2025-02-03 15:39:31 -0500 (Mon, 03 Feb 2025) EllapsedTime: 5.8 seconds RetCode: 0 Status: OK