Package: CTDquerier Version: 2.14.0 Command: rm -rf CTDquerier.buildbin-libdir && mkdir CTDquerier.buildbin-libdir && /Users/biocbuild/BBS/utils/build-universal.sh CTDquerier_2.14.0.tar.gz /Library/Frameworks/R.framework/Resources/bin/R CTDquerier.buildbin-libdir StartedAt: 2025-02-04 12:45:18 -0500 (Tue, 04 Feb 2025) EndedAt: 2025-02-04 12:45:37 -0500 (Tue, 04 Feb 2025) EllapsedTime: 18.7 seconds RetCode: 0 Status: OK PackageFile: CTDquerier_2.14.0.tgz PackageFileSize: 2.712 MiB