Package: CTDquerier Version: 2.14.0 Command: /Library/Frameworks/R.framework/Resources/bin/R CMD check --install=check:CTDquerier.install-out.txt --library=/Library/Frameworks/R.framework/Resources/library --no-vignettes --timings CTDquerier_2.14.0.tar.gz StartedAt: 2025-02-04 02:02:17 -0500 (Tue, 04 Feb 2025) EndedAt: 2025-02-04 02:06:23 -0500 (Tue, 04 Feb 2025) EllapsedTime: 246.1 seconds RetCode: 0 Status: WARNINGS CheckDir: CTDquerier.Rcheck Warnings: 1