Package: CTDquerier Version: 2.14.0 Command: /home/biocbuild/bbs-3.20-bioc/R/bin/R CMD build --keep-empty-dirs --no-resave-data --md5 CTDquerier StartedAt: 2025-02-03 17:02:26 -0500 (Mon, 03 Feb 2025) EndedAt: 2025-02-03 17:02:28 -0500 (Mon, 03 Feb 2025) EllapsedTime: 2.0 seconds RetCode: 0 Status: OK PackageFile: CTDquerier_2.14.0.tar.gz PackageFileSize: 2.805 MiB