Package: CTDquerier Version: 2.14.0 Command: F:\biocbuild\bbs-3.20-bioc\R\bin\R.exe CMD check --no-multiarch --install=check:CTDquerier.install-out.txt --library=F:\biocbuild\bbs-3.20-bioc\R\library --no-vignettes --timings CTDquerier_2.14.0.tar.gz StartedAt: 2025-02-18 00:29:07 -0500 (Tue, 18 Feb 2025) EndedAt: 2025-02-18 00:31:13 -0500 (Tue, 18 Feb 2025) EllapsedTime: 126.2 seconds RetCode: 0 Status: WARNINGS CheckDir: CTDquerier.Rcheck Warnings: 1